BEGIN:VCALENDAR
VERSION:2.0
PRODID:-//eventon.com NONSGML v1.0//EN
CALSCALE:GREGORIAN
METHOD:PUBLISH
BEGIN:VEVENT
UID:69e4f931f3703
DTSTAMP:20260419T154801Z
DTSTART:20260221T140000Z
DTEND:20260221T230000Z
LOCATION:Tympanum-Kulturkeller (Lokal) Prinz Eugen-Straße 6\,  1040 Wien\,  Österreich
SUMMARY:Wastelands Taverne - Garys Hideaway
DESCRIPTION:Mitten in den Wastelands steht eine alte Spelunke\,  die nicht 
 besonders viel zu bieten hat. Der alte Gary - ihr Betreiber - ist verschrob
 en\,  unfreundlich und stets schlecht gelaunt. Dennoch ist diese Bar gut be
 sucht\,  ganz einfach weil sie gut gelegen ist und viele Wastelander daran 
 vorbei kommen. Die angeschlossene[..]\nhttps://www.larp-oesterreich.at/even
 ts/wastelands-taverne-garys-hideaway/
URL:https://www.larp-oesterreich.at/events/wastelands-taverne-garys-hideaway/
END:VEVENT
END:VCALENDAR