BEGIN:VCALENDAR
VERSION:2.0
PRODID:-//eventon.com NONSGML v1.0//EN
CALSCALE:GREGORIAN
METHOD:PUBLISH
BEGIN:VEVENT
UID:69e77ea70c459
DTSTAMP:20260421T134159Z
DTSTART:20261029T180000Z
DTEND:20261101T120000Z
LOCATION:Schloss Kobersdorf Schloßgasse 3
SUMMARY:EXSANGUIS
DESCRIPTION:Exsanguis is a larp with erotic and horror elements\,  set in a
 n&nbsp;Austro-Hungarian convent school&nbsp;for young adults in&nbsp;1897\,
   run by nuns with a strict hand.\nhttps://www.larp-oesterreich.at/events/e
 xsanguis/
URL:https://www.larp-oesterreich.at/events/exsanguis/
END:VEVENT
END:VCALENDAR