BEGIN:VCALENDAR
VERSION:2.0
PRODID:-//eventon.com NONSGML v1.0//EN
CALSCALE:GREGORIAN
METHOD:PUBLISH
BEGIN:VEVENT
UID:69e652919349e
DTSTAMP:20260420T162137Z
DTSTART:20260404T140000Z
DTEND:20260404T220000Z
LOCATION:Tympanum-Kulturkeller (Lokal) Prinz Eugen-Straße 6\,  1040 Wien\,  Österreich
SUMMARY:Der Plan- Moth pa Ketus Legenden
DESCRIPTION:StoryDie Ruinen wurden gesichtet und es wurde ein kleines Lager
  nahe der Ruinen errichtet. Es soll als Basis für die Untersuchungen und V
 orbereitungen dienen bevor es zur eigentlichen Expedition geht. Alle aufger
 ufenen Helden sind willkommen sich im Lager am Sethosphad einzufinden und a
 n der Expedition teil zu haben. Ot Infos[..]\nhttps://www.larp-oesterreich.
 at/events/der-plan-moth-pa-ketus-legenden/
URL:https://www.larp-oesterreich.at/events/der-plan-moth-pa-ketus-legenden/
END:VEVENT
END:VCALENDAR