BEGIN:VCALENDAR
VERSION:2.0
PRODID:-//eventon.com NONSGML v1.0//EN
CALSCALE:GREGORIAN
METHOD:PUBLISH
BEGIN:VEVENT
UID:69e751a89810b
DTSTAMP:20260421T103000Z
DTSTART:20260410T140000Z
DTEND:20260411T170000Z
LOCATION:Ansitz Wartenfels VordereggstraÃŸe 30
SUMMARY:Ein Hauch von Glanz & Gefahr LARP
DESCRIPTION:Ein LARP zwischen Renaissance und Steampunk - Intrigen statt KÃ
 ¤mpfe\,  Geheimnisse statt Waffen. WAS ERWARTET DICH? "LARP" steht fÃ¼r Liv
 e Action Role Playing\,  eine Mischung aus Theater\,  Improvisation und Spi
 el. Du schlÃ¼pfst in eine Rolle\,  begegnest anderen Figuren in KostÃ¼m und
  erlebst eine Geschichte\,  die sich durch eure Entscheidungen und[..]\nhtt
 ps://www.larp-oesterreich.at/events/ein-hauch-von-glanz-gefahr-larp/
URL:https://www.larp-oesterreich.at/events/ein-hauch-von-glanz-gefahr-larp/
END:VEVENT
END:VCALENDAR