BEGIN:VCALENDAR
VERSION:2.0
PRODID:-//eventon.com NONSGML v1.0//EN
CALSCALE:GREGORIAN
METHOD:PUBLISH
BEGIN:VEVENT
UID:69e768285e309
DTSTAMP:20260421T120600Z
DTSTART:20260716T120000Z
DTEND:20260719T120000Z
LOCATION:Böhmerwald Bundesstraße 38\,  3593 Neupölla 3593 Neupölla\,  Turnier am Distelhain
SUMMARY:Eine Hochzeit und ein Todes Fall
DESCRIPTION:Dieses Jahr ist sich wieder eine Hochzeit angekündigt. Die Lei
 te reden schon ganz viel:Ist es sich die Ludmilla und die Wolkow? Wird es d
 iesmal ein schänes Fest? Was gibts sich zu die Essen?Natürlitsch ist sich
  so eine Hochzeit eine wunderbare und hoffentlich vom Eynen gesegnetes Erei
 gnis und nichtskann so einen[..]\nhttps://www.larp-oesterreich.at/events/19
 309/
URL:https://www.larp-oesterreich.at/events/19309/
END:VEVENT
END:VCALENDAR