BEGIN:VCALENDAR
VERSION:2.0
PRODID:-//eventon.com NONSGML v1.0//EN
CALSCALE:GREGORIAN
METHOD:PUBLISH
BEGIN:VEVENT
UID:69e653667b3f5
DTSTAMP:20260420T162510Z
DTSTART:20260530T140000Z
DTEND:20260530T235900Z
LOCATION:Erdbergkeller Erdbergstraße 59
SUMMARY:LARP Flohmarkt
DESCRIPTION:Screenshot Neue Ausrüstung für einen neuen Charakter gesucht?
 Schau vorbei\,  vielleicht ist etwas dabei für dich. Wer selber gerne etwa
 s verkaufen möchte\,  schreibt mir bitte (Hr. Flammensänger) eine Private
  Nachricht.\nhttps://www.larp-oesterreich.at/events/larp-flohmarkt-2/
URL:https://www.larp-oesterreich.at/events/larp-flohmarkt-2/
END:VEVENT
END:VCALENDAR